BEGIN:VCALENDAR
VERSION:2.0
PRODID:spatie/icalendar-generator
DESCRIPTION:Events from John Leahy
X-WR-CALDESC:Events from John Leahy
REFRESH-INTERVAL;VALUE=DURATION:PT1440M
X-PUBLISHED-TTL:PT1440M
BEGIN:VTIMEZONE
TZID:America/New_York
BEGIN:STANDARD
DTSTART:20241103T020000Z
TZOFFSETFROM:-0400
TZOFFSETTO:-0500
END:STANDARD
BEGIN:DAYLIGHT
DTSTART:20250309T020000Z
TZOFFSETFROM:-0500
TZOFFSETTO:-0400
END:DAYLIGHT
BEGIN:STANDARD
DTSTART:20251102T020000Z
TZOFFSETFROM:-0400
TZOFFSETTO:-0500
END:STANDARD
END:VTIMEZONE
BEGIN:VTIMEZONE
TZID:UTC
BEGIN:STANDARD
DTSTART:20250725T081551Z
TZOFFSETFROM:+0000
TZOFFSETTO:+0000
END:STANDARD
END:VTIMEZONE
BEGIN:VEVENT
UID:386-325
DTSTAMP:20260421T081551Z
SUMMARY:BOOK SIGNING- Barnes and Noble\, Manchester\, NH
LOCATION:Barnes and Noble  45 Gosling Rd.   Newington NH 03801
ORGANIZER;CN=John Leahy:MAILTO:jleahybroadcaster@gmail.com
DTSTART;TZID=America/New_York:20250705T120000
DTEND;TZID=America/New_York:20250705T150000
X-ALT-DESC;FMTTYPE=TEXT/HTML:I invite you all to join me on Saturday\, July
  5\, as I sign copies of my new book\, Living On Air\, at the Barnes and N
 oble in Manchester\, New Hampshire from 12-3 PM. Come spend part of your h
 oliday weekend and hang out!
CATEGORIES:Books
URL;VALUE=URI:https://www.johnrleahy.com/mc-events/book-signing-barnes-and-
 noble-manchester-nh/
METHOD:PUBLISH
END:VEVENT
END:VCALENDAR