BEGIN:VCALENDAR
VERSION:2.0
PRODID:spatie/icalendar-generator
DESCRIPTION:Events from John Leahy
X-WR-CALDESC:Events from John Leahy
REFRESH-INTERVAL;VALUE=DURATION:PT1440M
X-PUBLISHED-TTL:PT1440M
BEGIN:VTIMEZONE
TZID:America/New_York
BEGIN:DAYLIGHT
DTSTART:20230312T020000Z
TZOFFSETFROM:-0500
TZOFFSETTO:-0400
END:DAYLIGHT
BEGIN:STANDARD
DTSTART:20231105T020000Z
TZOFFSETFROM:-0400
TZOFFSETTO:-0500
END:STANDARD
BEGIN:DAYLIGHT
DTSTART:20240310T020000Z
TZOFFSETFROM:-0500
TZOFFSETTO:-0400
END:DAYLIGHT
END:VTIMEZONE
BEGIN:VTIMEZONE
TZID:UTC
BEGIN:STANDARD
DTSTART:20250725T085223Z
TZOFFSETFROM:+0000
TZOFFSETTO:+0000
END:STANDARD
END:VTIMEZONE
BEGIN:VEVENT
UID:98-40
DTSTAMP:20260421T085223Z
SUMMARY:Bridgewater Bandits Hockey vs. New Hampshire Avalanche
LOCATION:
ORGANIZER;CN=John Leahy:MAILTO:jleahybroadcaster@gmail.com
DTSTART;TZID=America/New_York:20231129T164000
DTEND;TZID=America/New_York:20231129T184000
X-ALT-DESC;FMTTYPE=TEXT/HTML:Play by Play of Bridgewater Bandits hockey\, a
 s the Bandits host the New Hampshire Avalanche live at the Bridgewater Ice
  Arena. Catch the game live at www.hockeytv.com.
CATEGORIES:Hockey
URL;VALUE=URI:https://www.johnrleahy.com/mc-events/bridgewater-bandits-hock
 ey-vs-new-hampshire-avalanche/
METHOD:PUBLISH
END:VEVENT
END:VCALENDAR